BEGIN:VCALENDAR
VERSION:2.0
PRODID:-//https://cue.crc.net.au///NONSGML kigkonsult.se iCalcreator 2.10.15//
METHOD:PUBLISH
BEGIN:VEVENT
UID:20200227T060820UTC-0296thNLO1@https://cue.crc.net.au/
DTSTAMP:20200227T060820Z
DESCRIPTION: https://cue.crc.net.au/events/event/111-cue-funday
DTSTART:20180825T050000Z
DTEND:20180825T130000Z
LOCATION:Cue (Cue WA 6640\, Australia)
SUMMARY:Cue Funday
URL:https://cue.crc.net.au/events/event/111-cue-funday
END:VEVENT
END:VCALENDAR
